{
 "extent": {
  "ymin": 4241082,
  "xmin": 347362,
  "ymax": 4297623,
  "xmax": 380297,
  "spatialReference": {
   "latestWkid": 26918,
   "wkid": 26918
  }
 },
 "blockWidth": 1024,
 "mosaicOperator": "First",
 "serviceSourceType": "esriImageServiceSourceTypeDataset",
 "hasMultidimensions": false,
 "maxImageWidth": 15000,
 "meanValues": [
  60.426131914583998,
  72.795097102948006,
  71.248921869388994
 ],
 "hasColormap": false,
 "compressionType": "Wavelet (MG3)",
 "defaultCompressionQuality": 75,
 "maxValues": [
  255,
  255,
  255
 ],
 "hasHistograms": true,
 "datasetFormat": "MrSID",
 "maxImageHeight": 4100,
 "sortField": "",
 "bandNames": [
  "Band_1",
  "Band_2",
  "Band_3"
 ],
 "spatialReference": {
  "latestWkid": 26918,
  "wkid": 26918
 },
 "fullExtent": {
  "ymin": 4241082,
  "xmin": 347362,
  "ymax": 4297623,
  "xmax": 380297,
  "spatialReference": {
   "latestWkid": 26918,
   "wkid": 26918
  }
 },
 "bandCount": 3,
 "rasterFunctionInfos": [
  {
   "help": "",
   "name": "None",
   "description": ""
  }
 ],
 "supportsStatistics": false,
 "sortableFields": "",
 "minValues": [
  0,
  0,
  0
 ],
 "allowRasterFunction": true,
 "allowComputeTiePoints": false,
 "serviceDataType": "esriImageServiceDataTypeRGB",
 "supportsAdvancedQueries": false,
 "currentVersion": 12.1,
 "sortValue": null,
 "objectIdField": "",
 "blockHeight": 128,
 "initialExtent": {
  "ymin": 4241082,
  "xmin": 347362,
  "ymax": 4297623,
  "xmax": 380297,
  "spatialReference": {
   "latestWkid": 26918,
   "wkid": 26918
  }
 },
 "pixelSizeX": 1,
 "pixelSizeY": 1,
 "defaultMosaicMethod": "Center",
 "name": "Image_Services/Calvert_2011_NAIP",
 "allowedMosaicMethods": "",
 "fields": [],
 "allowAnalysis": true,
 "hasRasterAttributeTable": false,
 "useStandardizedQueries": false,
 "description": "This data set contains imagery from the National\nAgriculture Imagery Program (NAIP). The NAIP\nacquires digital ortho imagery during the\nagricultural growing seasons in the continental U.S..\nA primary goal of the NAIP program is to enable\navailability of ortho imagery within one year of\nacquisition. The NAIP provides two main products: 1\nmeter ground sample distance (GSD) ortho imagery\nrectified to a horizontal accuracy within +/- 5 meters\nof reference digital ortho quarter quads (DOQQ's) from\nthe National Digital Ortho Program (NDOP) or from the\nNational Agriculture Imagery Program (NAIP); 1 meter\nGSD ortho imagery rectified within +/- 6 meters to\ntrue ground. The tiling format of NAIP imagery is\nbased on a 3.75' x 3.75' quarter quadrangle with a 300\nmeter buffer on all four sides. The NAIP imagery is\nformatted to the UTM coordinate system using the North\nAmerican Datum of 1983 (NAD83). The NAIP imagery may\ncontain as much as 10% cloud cover per tile. This file\nwas generated by compressing NAIP imagery that cover\nthe county extent. Two types of compression may be\nused for NAIP imagery: MrSID and JPEG 2000. Target\nvalue for the compression ratio is (15:1).",
 "pixelType": "U8",
 "meanPixelSize": 1,
 "exportTilesAllowed": false,
 "editFieldsInfo": null,
 "rasterTypeInfos": [
  {
   "help": "",
   "name": "Raster Dataset",
   "description": "Supports all ArcGIS Raster Datasets"
  }
 ],
 "defaultResamplingMethod": "Bilinear",
 "itemAccess": false,
 "minScale": 0,
 "serviceProperties": "Center<\/MosaicMethod>First<\/MosaicOperator>true<\/SortAscending><\/LockImageID><\/TileOrderField>0<\/TileOrderBase>0.000000<\/AvgImageSpacingX>0.000000<\/AvgImageSpacingY>0.0<\/ViewPointX>0.0<\/ViewPointY>0.0<\/ViewPointDefShiftX>0.0<\/ViewPointDefShiftY>None<\/CompressionMethod>75<\/CompressionQuality>0.010000<\/CompressionTolerance>Bilinear<\/SamplingMethod><\/ImageServiceProperties><\/ImageServer>",
 "advancedQueryCapabilities": {
  "supportsStatistics": false,
  "supportsSqlExpression": false,
  "supportsOrderBy": false,
  "useStandardizedQueries": false,
  "supportsPagination": false,
  "supportsDistinct": false
 },
 "serviceItemId": "49eab0bac00e41c8965d40f9771e70a3",
 "capabilities": "Mensuration,Image,Metadata",
 "maxScale": 0,
 "stdvValues": [
  59.759298354138998,
  67.878209036005003,
  65.675957038991996
 ],
 "allowedFields": "",
 "minPixelSize": 0,
 "resampling": false,
 "sortAscending": true,
 "inspectionCapabilities": "",
 "maxPixelSize": 0,
 "allowedCompressions": "None,JPEG,LZ77,LERC",
 "uncompressedSize": 5586533505,
 "serviceDescription": "This data set contains imagery from the National\nAgriculture Imagery Program (NAIP). The NAIP\nacquires digital ortho imagery during the\nagricultural growing seasons in the continental U.S..\nA primary goal of the NAIP program is to enable\navailability of ortho imagery within one year of\nacquisition. The NAIP provides two main products: 1\nmeter ground sample distance (GSD) ortho imagery\nrectified to a horizontal accuracy within +/- 5 meters\nof reference digital ortho quarter quads (DOQQ's) from\nthe National Digital Ortho Program (NDOP) or from the\nNational Agriculture Imagery Program (NAIP); 1 meter\nGSD ortho imagery rectified within +/- 6 meters to\ntrue ground. The tiling format of NAIP imagery is\nbased on a 3.75' x 3.75' quarter quadrangle with a 300\nmeter buffer on all four sides. The NAIP imagery is\nformatted to the UTM coordinate system using the North\nAmerican Datum of 1983 (NAD83). The NAIP imagery may\ncontain as much as 10% cloud cover per tile. This file\nwas generated by compressing NAIP imagery that cover\nthe county extent. Two types of compression may be\nused for NAIP imagery: MrSID and JPEG 2000. Target\nvalue for the compression ratio is (15:1).",
 "allowCopy": true,
 "copyrightText": "",
 "mensurationCapabilities": "Basic",
 "ownershipBasedAccessControlForRasters": null
}
