View In:
ArcGIS JavaScript
ArcGIS Online Map Viewer
ArcGIS Earth
Service Description: This data set contains imagery from the National Agricultural
Imagery Program (NAIP). NAIP acquires digital ortho imagery
during the agricultural growing seasons in the continental U.S..
A primary goal of the NAIP program is to enable availabilty of
ortho imagery within a year of acquisition. NAIP provides two
main products: 1 meter ground sample distance (GSD) ortho
imagery rectified to a horizontal accuracy of within +/- 5
meters of reference digital ortho quarter quads (DOQQS) from
the National Digital Ortho Program (NDOP); and, 2 meter GSD
ortho imagery rectified to within +/- 10 meters of reference
DOQQs.
The tiling format of NAIP imagery is based on a 3.75' x 3.75'
quarter quadrangle with a 300 meter buffer on all four sides.
NAIP quarter quads are rectified to the UTM coordinate
system NAD83 and cast into a single predetermined UTM zone.
NAIP imagery can obtain as much as 10% cloud cover per tile.
This file was generated by compressing NAIP digital quarter
quadrangle image tiles either natural color positive or color
infrared positive source imagery into a single mosaic. The
mosaic may cover all or portions of an individual county.
MrSid software compression, with mosaic option, was used to
create the final product. Target values for the compression
ratio are (15:1) and the maximum N-levels are used.
All digital products and the underlying source images were
produced through the National Agriculture Imagery Program (NAIP).
The primary purpose of the mosaicked digital ortho quarter quads
is to support USDA Field Service Centers located in counties
throughout the United States.
Name: Image_Services/Calvert_2005_NAIP
Description: This data set contains imagery from the National Agricultural
Imagery Program (NAIP). NAIP acquires digital ortho imagery
during the agricultural growing seasons in the continental U.S..
A primary goal of the NAIP program is to enable availabilty of
ortho imagery within a year of acquisition. NAIP provides two
main products: 1 meter ground sample distance (GSD) ortho
imagery rectified to a horizontal accuracy of within +/- 5
meters of reference digital ortho quarter quads (DOQQS) from
the National Digital Ortho Program (NDOP); and, 2 meter GSD
ortho imagery rectified to within +/- 10 meters of reference
DOQQs.
The tiling format of NAIP imagery is based on a 3.75' x 3.75'
quarter quadrangle with a 300 meter buffer on all four sides.
NAIP quarter quads are rectified to the UTM coordinate
system NAD83 and cast into a single predetermined UTM zone.
NAIP imagery can obtain as much as 10% cloud cover per tile.
This file was generated by compressing NAIP digital quarter
quadrangle image tiles either natural color positive or color
infrared positive source imagery into a single mosaic. The
mosaic may cover all or portions of an individual county.
MrSid software compression, with mosaic option, was used to
create the final product. Target values for the compression
ratio are (15:1) and the maximum N-levels are used.
All digital products and the underlying source images were
produced through the National Agriculture Imagery Program (NAIP).
The primary purpose of the mosaicked digital ortho quarter quads
is to support USDA Field Service Centers located in counties
throughout the United States.
Single Fused Map Cache: false
Extent:
XMin: 347094.0
YMin: 4234143.0
XMax: 380197.0
YMax: 4297728.0
Spatial Reference: 26918
(26918)
Initial Extent:
XMin: 347094.0
YMin: 4234143.0
XMax: 380197.0
YMax: 4297728.0
Spatial Reference: 26918
(26918)
Full Extent:
XMin: 347094.0
YMin: 4234143.0
XMax: 380197.0
YMax: 4297728.0
Spatial Reference: 26918
(26918)
Pixel Size X: 1.0
Pixel Size Y: 1.0
Band Count: 3
Pixel Type: U8
RasterFunction Infos: {"rasterFunctionInfos": [{
"help": "",
"name": "None",
"description": ""
}]}
Mensuration Capabilities: Basic
Inspection Capabilities:
Has Histograms: true
Has Colormap: false
Has Multi Dimensions : false
Rendering Rule:
Min Scale: 0
Max Scale: 0
Resampling: false
Copyright Text:
Service Data Type: esriImageServiceDataTypeRGB
Min Values: 0, 0, 0
Max Values: 246, 249, 250
Mean Values: 66.798399999999688, 73.258092307691911, 74.223630769230439
Standard Deviation Values: 56.478803407677248, 60.84606532294243, 61.25767685681879
Object ID Field:
Fields:
None
Default Mosaic Method: Center
Allowed Mosaic Methods:
SortField:
SortValue: N/A
Mosaic Operator: First
Default Compression Quality: 75
Default Resampling Method: Bilinear
Max Record Count: null
Max Image Height: 4100
Max Image Width: 15000
Max Download Image Count: null
Max Mosaic Image Count: null
Allow Raster Function: true
Allow Copy: true
Allow Analysis: true
Allow Compute TiePoints: false
Supports Statistics: false
Supports Advanced Queries: false
Use StandardizedQueries: false
Raster Type Infos:
Name: Raster Dataset
Description: Supports all ArcGIS Raster Datasets
Help:
Has Raster Attribute Table: false
Edit Fields Info: N/A
Ownership Based AccessControl For Rasters: N/A
Child Resources:
Info
Histograms
Statistics
Key Properties
Legend
Raster Function Infos
Supported Operations:
Export Image
Identify
Measure
Compute Histograms
Compute Statistics Histograms
Get Samples
Compute Class Statistics
Query Boundary
Compute Pixel Location
Compute Angles
Validate
Project