View In:
ArcGIS JavaScript
ArcGIS Online Map Viewer
ArcGIS Earth
Service Description: This historic satellite imagery depicts Calvert County, Maryland in 2009. The imagery was commissioned by the federal government as part of the National Agricultural Imagery Program (NAIP).
Name: Image_Services/Calvert_2009
Description: This historic satellite imagery depicts Calvert County, Maryland in 2009. The imagery was commissioned by the federal government as part of the National Agricultural Imagery Program (NAIP).
Single Fused Map Cache: false
Extent:
XMin: 1381247.309371382
YMin: 232506.70978023135
XMax: 1493366.5077047152
YMax: 420377.068946898
Spatial Reference: 102685
(2248)
Initial Extent:
XMin: 1381247.309371382
YMin: 232506.70978023135
XMax: 1493366.5077047152
YMax: 420377.068946898
Spatial Reference: 102685
(2248)
Full Extent:
XMin: 1381247.309371382
YMin: 232506.70978023135
XMax: 1493366.5077047152
YMax: 420377.068946898
Spatial Reference: 102685
(2248)
Pixel Size X: 3.2808333333333306
Pixel Size Y: 3.280833333333333
Band Count: 3
Pixel Type: U8
RasterFunction Infos: {"rasterFunctionInfos": [{
"help": "",
"name": "None",
"description": ""
}]}
Mensuration Capabilities: Basic
Inspection Capabilities:
Has Histograms: true
Has Colormap: false
Has Multi Dimensions : false
Rendering Rule:
Min Scale: 0
Max Scale: 0
Resampling: false
Copyright Text: National Agricultural Imagery Program.
Service Data Type: esriImageServiceDataTypeRGB
Min Values: 0.049356223175965663, 0.020325203252032575, 0.016129032258064502
Max Values: 254.95064377682402, 254.97967479674799, 254.98387096774192
Mean Values: 66.106110897956356, 69.090665337006911, 72.198079717434311
Standard Deviation Values: 61.688370815065333, 63.145782190568838, 65.100897286672534
Object ID Field: OBJECTID
Fields:
-
OBJECTID
(
alias: OBJECTID, type: esriFieldTypeOID
)
-
Shape
(
alias: Shape, type: esriFieldTypeGeometry
)
-
Name
(
length: 200, alias: Name, type: esriFieldTypeString
)
-
MinPS
(
alias: MinPS, type: esriFieldTypeDouble
)
-
MaxPS
(
alias: MaxPS, type: esriFieldTypeDouble
)
-
LowPS
(
alias: LowPS, type: esriFieldTypeDouble
)
-
HighPS
(
alias: HighPS, type: esriFieldTypeDouble
)
-
Category
(
alias: Category, type: esriFieldTypeInteger
, Coded Values:
[0: Unknown]
, [1: Primary]
, [2: Overview]
, ...6 more...
)
-
Tag
(
length: 100, alias: Tag, type: esriFieldTypeString
)
-
GroupName
(
length: 100, alias: GroupName, type: esriFieldTypeString
)
-
ProductName
(
length: 100, alias: ProductName, type: esriFieldTypeString
)
-
CenterX
(
alias: CenterX, type: esriFieldTypeDouble
)
-
CenterY
(
alias: CenterY, type: esriFieldTypeDouble
)
-
ZOrder
(
alias: ZOrder, type: esriFieldTypeInteger
)
-
Shape_Length
(
alias: Shape_Length, type: esriFieldTypeDouble
)
-
Shape_Area
(
alias: Shape_Area, type: esriFieldTypeDouble
)
Default Mosaic Method: Northwest
Allowed Mosaic Methods: NorthWest,Center,LockRaster,ByAttribute,Nadir,Viewpoint,Seamline,None
SortField:
SortValue: N/A
Mosaic Operator: First
Default Compression Quality: 75
Default Resampling Method: Bilinear
Max Record Count: 1000
Max Image Height: 4100
Max Image Width: 15000
Max Download Image Count: 20
Max Mosaic Image Count: 20
Allow Raster Function: true
Allow Copy: true
Allow Analysis: true
Allow Compute TiePoints: false
Supports Statistics: true
Supports Advanced Queries: true
Use StandardizedQueries: true
Raster Type Infos:
Name: Raster Dataset
Description: Supports all ArcGIS Raster Datasets
Help:
Has Raster Attribute Table: false
Edit Fields Info: N/A
Ownership Based AccessControl For Rasters: N/A
Child Resources:
Info
Histograms
Statistics
Key Properties
Legend
Raster Function Infos
Supported Operations:
Export Image
Query
Identify
Measure
Compute Histograms
Compute Statistics Histograms
Get Samples
Compute Class Statistics
Query GPS Info
Find Images
Image to Map
Map to Image
Measure from Image
Image to Map Multiray
Query Boundary
Compute Pixel Location
Compute Angles
Validate
Project