View In:
ArcGIS JavaScript
ArcGIS Online Map Viewer
ArcGIS Earth
Service Description: This data set contains imagery from the National
Agriculture Imagery Program (NAIP). The NAIP
acquires digital ortho imagery during the
agricultural growing seasons in the continental U.S..
A primary goal of the NAIP program is to enable
availability of ortho imagery within one year of
acquisition. The NAIP provides two main products: 1
meter ground sample distance (GSD) ortho imagery
rectified to a horizontal accuracy within +/- 5 meters
of reference digital ortho quarter quads (DOQQ's) from
the National Digital Ortho Program (NDOP) or from the
National Agriculture Imagery Program (NAIP); 1 meter
or 1/2 meter GSD ortho imagery rectified within +/- 6
meters to true ground. The tiling format of NAIP imagery is
based on a 3.75' x 3.75' quarter quadrangle with a 300
pixel buffer on all four sides. The NAIP imagery is
formatted to the UTM coordinate system using the North
American Datum of 1983 (NAD83). The NAIP imagery may
contain as much as 10% cloud cover per tile. This file
was generated by compressing NAIP imagery that cover
the county extent. Two types of compression may be
used for NAIP imagery: MrSID and JPEG 2000. The target
value for the compression ratio is (15:1) for the 1 meter
imagery and 60:1 for the 1/2 meter imagery.
Name: Image_Services/Calvert_2015_NAIP
Description: This data set contains imagery from the National
Agriculture Imagery Program (NAIP). The NAIP
acquires digital ortho imagery during the
agricultural growing seasons in the continental U.S..
A primary goal of the NAIP program is to enable
availability of ortho imagery within one year of
acquisition. The NAIP provides two main products: 1
meter ground sample distance (GSD) ortho imagery
rectified to a horizontal accuracy within +/- 5 meters
of reference digital ortho quarter quads (DOQQ's) from
the National Digital Ortho Program (NDOP) or from the
National Agriculture Imagery Program (NAIP); 1 meter
or 1/2 meter GSD ortho imagery rectified within +/- 6
meters to true ground. The tiling format of NAIP imagery is
based on a 3.75' x 3.75' quarter quadrangle with a 300
pixel buffer on all four sides. The NAIP imagery is
formatted to the UTM coordinate system using the North
American Datum of 1983 (NAD83). The NAIP imagery may
contain as much as 10% cloud cover per tile. This file
was generated by compressing NAIP imagery that cover
the county extent. Two types of compression may be
used for NAIP imagery: MrSID and JPEG 2000. The target
value for the compression ratio is (15:1) for the 1 meter
imagery and 60:1 for the 1/2 meter imagery.
Single Fused Map Cache: false
Extent:
XMin: 1310825.4981155545
YMin: 120744.7912441477
XMax: 1601763.2364488877
YMax: 488349.0429108143
Spatial Reference: 102685
(2248)
Initial Extent:
XMin: 1310825.4981155545
YMin: 120744.7912441477
XMax: 1601763.2364488877
YMax: 488349.0429108143
Spatial Reference: 102685
(2248)
Full Extent:
XMin: 1310825.4981155545
YMin: 120744.7912441477
XMax: 1601763.2364488877
YMax: 488349.0429108143
Spatial Reference: 102685
(2248)
Pixel Size X: 3.280833333333333
Pixel Size Y: 3.280833333333333
Band Count: 4
Pixel Type: U8
RasterFunction Infos: {"rasterFunctionInfos": [{
"help": "",
"name": "None",
"description": ""
}]}
Mensuration Capabilities: Basic
Inspection Capabilities:
Has Histograms: true
Has Colormap: false
Has Multi Dimensions : false
Rendering Rule:
Min Scale: 0
Max Scale: 0
Resampling: false
Copyright Text:
Service Data Type: esriImageServiceDataTypeGeneric
Min Values: 0, 0, 0, 0
Max Values: 255, 250, 255, 250
Mean Values: 133.43518690335927, 140.80140064205926, 137.46581889428364, 170.49733900458375
Standard Deviation Values: 46.754505551721827, 37.43422045586594, 35.060126381299732, 57.985013259911995
Object ID Field: OBJECTID
Fields:
-
OBJECTID
(
alias: OBJECTID, type: esriFieldTypeOID
)
-
Shape
(
alias: Shape, type: esriFieldTypeGeometry
)
-
Name
(
length: 200, alias: Name, type: esriFieldTypeString
)
-
MinPS
(
alias: MinPS, type: esriFieldTypeDouble
)
-
MaxPS
(
alias: MaxPS, type: esriFieldTypeDouble
)
-
LowPS
(
alias: LowPS, type: esriFieldTypeDouble
)
-
HighPS
(
alias: HighPS, type: esriFieldTypeDouble
)
-
Category
(
alias: Category, type: esriFieldTypeInteger
, Coded Values:
[0: Unknown]
, [1: Primary]
, [2: Overview]
, ...6 more...
)
-
Tag
(
length: 100, alias: Tag, type: esriFieldTypeString
)
-
GroupName
(
length: 100, alias: GroupName, type: esriFieldTypeString
)
-
ProductName
(
length: 100, alias: ProductName, type: esriFieldTypeString
)
-
CenterX
(
alias: CenterX, type: esriFieldTypeDouble
)
-
CenterY
(
alias: CenterY, type: esriFieldTypeDouble
)
-
ZOrder
(
alias: ZOrder, type: esriFieldTypeInteger
)
-
Shape_Length
(
alias: Shape_Length, type: esriFieldTypeDouble
)
-
Shape_Area
(
alias: Shape_Area, type: esriFieldTypeDouble
)
Default Mosaic Method: Northwest
Allowed Mosaic Methods: NorthWest,Center,LockRaster,ByAttribute,Nadir,Viewpoint,Seamline,None
SortField:
SortValue: N/A
Mosaic Operator: First
Default Compression Quality: 75
Default Resampling Method: Bilinear
Max Record Count: 1000
Max Image Height: 4100
Max Image Width: 15000
Max Download Image Count: 20
Max Mosaic Image Count: 20
Allow Raster Function: true
Allow Copy: true
Allow Analysis: true
Allow Compute TiePoints: false
Supports Statistics: true
Supports Advanced Queries: true
Use StandardizedQueries: true
Raster Type Infos:
Name: Raster Dataset
Description: Supports all ArcGIS Raster Datasets
Help:
Has Raster Attribute Table: false
Edit Fields Info: N/A
Ownership Based AccessControl For Rasters: N/A
Child Resources:
Info
Histograms
Statistics
Key Properties
Legend
Raster Function Infos
Supported Operations:
Export Image
Query
Identify
Measure
Compute Histograms
Compute Statistics Histograms
Get Samples
Compute Class Statistics
Query GPS Info
Find Images
Image to Map
Map to Image
Measure from Image
Image to Map Multiray
Query Boundary
Compute Pixel Location
Compute Angles
Validate
Project